BEGIN:VCALENDAR
VERSION:2.0
PRODID:-//Squarespace Inc/Squarespace 6//v6//EN
BEGIN:VEVENT
UID:57e87f2d29687f1c49c9ee3b@squarespace.com
DTSTAMP:20160926T015149Z
DTSTART:20161013T000000Z
DTEND:20161013T010000Z
SUMMARY:Club Meeting
END:VEVENT
END:VCALENDAR
