BEGIN:VCALENDAR
VERSION:2.0
PRODID:-//Squarespace Inc/Squarespace 6//v6//EN
BEGIN:VEVENT
UID:57df81073e00be77caabc915@squarespace.com
DTSTAMP:20160921T052019Z
DTSTART:20161023T113000Z
DTEND:20161023T153000Z
SUMMARY:Bay Competition
END:VEVENT
END:VCALENDAR
