BEGIN:VCALENDAR
VERSION:2.0
PRODID:-//Squarespace Inc/Squarespace 6//v6//EN
BEGIN:VEVENT
UID:57df817146c3c466ad4241cb@squarespace.com
DTSTAMP:20160921T051952Z
DTSTART:20161009T113000Z
DTEND:20161009T153000Z
SUMMARY:Freshwater Competition
END:VEVENT
END:VCALENDAR
