BEGIN:VCALENDAR
VERSION:2.0
PRODID:-//Squarespace Inc/Squarespace 6//v6//EN
BEGIN:VEVENT
UID:57e87f4d29687f1c49c9ef6d@squarespace.com
DTSTAMP:20160926T015224Z
DTSTART:20161111T010000Z
DTEND:20161111T020000Z
SUMMARY:Club Meeting
END:VEVENT
END:VCALENDAR
