BEGIN:VCALENDAR
VERSION:2.0
PRODID:-//Squarespace Inc/Squarespace 6//v6//EN
BEGIN:VEVENT
UID:57df807e414fb54619640da7@squarespace.com
DTSTAMP:20160921T052113Z
DTSTART:20161113T123000Z
DTEND:20161113T163000Z
SUMMARY:Surf Competition
END:VEVENT
END:VCALENDAR
