BEGIN:VCALENDAR
VERSION:2.0
PRODID:-//Squarespace Inc/Squarespace 6//v6//EN
BEGIN:VEVENT
UID:57df802c579fb3ea4687ffbc@squarespace.com
DTSTAMP:20170314T084417Z
DTSTART:20161120T123000Z
DTEND:20161120T163000Z
SUMMARY:Estuary Competition 
END:VEVENT
END:VCALENDAR
