BEGIN:VCALENDAR
VERSION:2.0
PRODID:-//Squarespace Inc/Squarespace 6//v6//EN
BEGIN:VEVENT
UID:57df80b3e6f2e1bd8841faba@squarespace.com
DTSTAMP:20160921T052047Z
DTSTART:20161106T123000Z
DTEND:20161106T163000Z
SUMMARY:Bay Competition
END:VEVENT
END:VCALENDAR
