BEGIN:VCALENDAR
VERSION:2.0
PRODID:-//Squarespace Inc/Squarespace 6//v6//EN
BEGIN:VEVENT
UID:57df7ee8d2b857cdad0fa935@squarespace.com
DTSTAMP:20160921T052301Z
DTSTART:20161211T123000Z
DTEND:20161211T163000Z
SUMMARY:Freshwater Competition
END:VEVENT
END:VCALENDAR
