BEGIN:VCALENDAR
VERSION:2.0
PRODID:-//Squarespace Inc/Squarespace 6//v6//EN
BEGIN:VEVENT
UID:57df7bb51b631b2a78710565@squarespace.com
DTSTAMP:20160919T055045Z
DTSTART:20160214T120000Z
DTEND:20160215T150000Z
SUMMARY:Freshwater Competition 
END:VEVENT
END:VCALENDAR
