BEGIN:VCALENDAR
VERSION:2.0
PRODID:-//Squarespace Inc/Squarespace 6//v6//EN
BEGIN:VEVENT
UID:57df7cd7d1758eccab27ad53@squarespace.com
DTSTAMP:20160919T055301Z
DTSTART:20160228T120000Z
DTEND:20160328T150000Z
SUMMARY:Bay Competition
END:VEVENT
END:VCALENDAR
