BEGIN:VCALENDAR
VERSION:2.0
PRODID:-//Squarespace Inc/Squarespace 6//v6//EN
BEGIN:VEVENT
UID:57df8233e58c62e05f0481a4@squarespace.com
DTSTAMP:20160921T051925Z
DTSTART:20160925T113000Z
DTEND:20160925T153000Z
SUMMARY:Bay Competition
END:VEVENT
END:VCALENDAR
