BEGIN:VCALENDAR
VERSION:2.0
PRODID:-//Squarespace Inc/Squarespace 6//v6//EN
BEGIN:VEVENT
UID:57e87eee725e255db3202774@squarespace.com
DTSTAMP:20160926T015124Z
DTSTART:20160929T000000Z
DTEND:20160929T010000Z
SUMMARY:Club Meeting
END:VEVENT
END:VCALENDAR
