BEGIN:VCALENDAR
VERSION:2.0
PRODID:-//Squarespace Inc/Squarespace 6//v6//EN
BEGIN:VEVENT
UID:57df7f48f7e0ab74193e07e9@squarespace.com
DTSTAMP:20160921T052233Z
DTSTART:20161204T123000Z
DTEND:20161204T163000Z
SUMMARY:Bay Competition 
END:VEVENT
END:VCALENDAR
