BEGIN:VCALENDAR
VERSION:2.0
PRODID:-//Squarespace Inc/Squarespace 6//v6//EN
BEGIN:VEVENT
UID:58c7b36a29687f17bf5deec2@squarespace.com
DTSTAMP:20170314T091047Z
DTSTART:20171015T093000Z
DTEND:20171015T153000Z
SUMMARY:Surf Competition
END:VEVENT
END:VCALENDAR
