BEGIN:VCALENDAR
VERSION:2.0
PRODID:-//Squarespace Inc/Squarespace 6//v6//EN
BEGIN:VEVENT
UID:58c7b4001b10e32dd8e79d08@squarespace.com
DTSTAMP:20170314T091340Z
DTSTART:20171112T103000Z
DTEND:20171112T163000Z
SUMMARY:Estuary Competition
END:VEVENT
END:VCALENDAR
