BEGIN:VCALENDAR
VERSION:2.0
PRODID:-//Squarespace Inc/Squarespace 6//v6//EN
BEGIN:VEVENT
UID:58c7adbaf5e2319940818fc5@squarespace.com
DTSTAMP:20170314T084742Z
DTSTART:20170219T110000Z
DTEND:20170219T190000Z
SUMMARY:Bay Competition
END:VEVENT
END:VCALENDAR
