BEGIN:VCALENDAR
VERSION:2.0
PRODID:-//Squarespace Inc/Squarespace 6//v6//EN
BEGIN:VEVENT
UID:58c7ad1e37c581e1410c09d5@squarespace.com
DTSTAMP:20170314T084535Z
DTSTART:20170205T100000Z
DTEND:20170206T190000Z
SUMMARY:Estuary Competition
END:VEVENT
END:VCALENDAR
