BEGIN:VCALENDAR
VERSION:2.0
PRODID:-//Squarespace Inc/Squarespace 6//v6//EN
BEGIN:VEVENT
UID:58c7aeece58c620ab84128c5@squarespace.com
DTSTAMP:20170314T085202Z
DTSTART:20170319T100000Z
DTEND:20170319T150000Z
SUMMARY:Bay Competition
END:VEVENT
END:VCALENDAR
