BEGIN:VCALENDAR
VERSION:2.0
PRODID:-//Squarespace Inc/Squarespace 6//v6//EN
BEGIN:VEVENT
UID:58c8f870b3db2b0c3a85b6d5@squarespace.com
DTSTAMP:20170315T081705Z
DTSTART:20170309T010000Z
DTEND:20170309T020000Z
SUMMARY:Club Meeting
END:VEVENT
END:VCALENDAR
