BEGIN:VCALENDAR
VERSION:2.0
PRODID:-//Squarespace Inc/Squarespace 6//v6//EN
BEGIN:VEVENT
UID:58c8f8c0579fb3efb64c79e5@squarespace.com
DTSTAMP:20170315T081818Z
DTSTART:20170427T000000Z
DTEND:20170427T010000Z
SUMMARY:Club Meeting
END:VEVENT
END:VCALENDAR
