BEGIN:VCALENDAR
VERSION:2.0
PRODID:-//Squarespace Inc/Squarespace 6//v6//EN
BEGIN:VEVENT
UID:58c7af7cb3db2b7f6a736241@squarespace.com
DTSTAMP:20170314T085403Z
DTSTART:20170409T090000Z
DTEND:20170409T150000Z
SUMMARY:Surf Competition
END:VEVENT
END:VCALENDAR
