BEGIN:VCALENDAR
VERSION:2.0
PRODID:-//Squarespace Inc/Squarespace 6//v6//EN
BEGIN:VEVENT
UID:58c8f8e429687f4b3dc42e32@squarespace.com
DTSTAMP:20170315T081851Z
DTSTART:20170525T000000Z
DTEND:20170525T010000Z
SUMMARY:Club Meeting
END:VEVENT
END:VCALENDAR
