BEGIN:VCALENDAR
VERSION:2.0
PRODID:-//Squarespace Inc/Squarespace 6//v6//EN
BEGIN:VEVENT
UID:58c7b15b17bffc0fdeac8627@squarespace.com
DTSTAMP:20170616T005512Z
DTSTART:20170625T093000Z
DTEND:20170625T153000Z
SUMMARY:Freshwater Competition
END:VEVENT
END:VCALENDAR
