BEGIN:VCALENDAR
VERSION:2.0
PRODID:-//Squarespace Inc/Squarespace 6//v6//EN
BEGIN:VEVENT
UID:58c7b0a81b631be853fda565@squarespace.com
DTSTAMP:20170314T085916Z
DTSTART:20170604T090000Z
DTEND:20170604T150000Z
SUMMARY:Surf Competition
END:VEVENT
END:VCALENDAR
