BEGIN:VCALENDAR
VERSION:2.0
PRODID:-//Squarespace Inc/Squarespace 6//v6//EN
BEGIN:VEVENT
UID:58c7b1e1d2b8576b507c7ce4@squarespace.com
DTSTAMP:20170314T090526Z
DTSTART:20170806T093000Z
DTEND:20170806T153000Z
SUMMARY:Surf Competition 
END:VEVENT
END:VCALENDAR
