BEGIN:VCALENDAR
VERSION:2.0
PRODID:-//Squarespace Inc/Squarespace 6//v6//EN
BEGIN:VEVENT
UID:58c8f978e58c629df6679897@squarespace.com
DTSTAMP:20170615T060911Z
DTSTART:20170817T000000Z
DTEND:20170817T010000Z
SUMMARY:Club Meeting
END:VEVENT
END:VCALENDAR
