BEGIN:VCALENDAR
VERSION:2.0
PRODID:-//Squarespace Inc/Squarespace 6//v6//EN
BEGIN:VEVENT
UID:58c7b26120099ea09c1b21ca@squarespace.com
DTSTAMP:20170314T090709Z
DTSTART:20170903T093000Z
DTEND:20170903T153000Z
SUMMARY:Freshwater Competition
END:VEVENT
END:VCALENDAR
